BEGIN:VCALENDAR
VERSION:2.0
PRODID:-//Fernmeldemuseum Dresden - ECPv6.15.20//NONSGML v1.0//EN
CALSCALE:GREGORIAN
METHOD:PUBLISH
X-WR-CALNAME:Fernmeldemuseum Dresden
X-ORIGINAL-URL:https://fernmeldemuseum-dresden.de
X-WR-CALDESC:Veranstaltungen für Fernmeldemuseum Dresden
REFRESH-INTERVAL;VALUE=DURATION:PT1H
X-Robots-Tag:noindex
X-PUBLISHED-TTL:PT1H
BEGIN:VTIMEZONE
TZID:Europe/Berlin
BEGIN:DAYLIGHT
TZOFFSETFROM:+0100
TZOFFSETTO:+0200
TZNAME:CEST
DTSTART:20250330T010000
END:DAYLIGHT
BEGIN:STANDARD
TZOFFSETFROM:+0200
TZOFFSETTO:+0100
TZNAME:CET
DTSTART:20251026T010000
END:STANDARD
BEGIN:DAYLIGHT
TZOFFSETFROM:+0100
TZOFFSETTO:+0200
TZNAME:CEST
DTSTART:20260329T010000
END:DAYLIGHT
BEGIN:STANDARD
TZOFFSETFROM:+0200
TZOFFSETTO:+0100
TZNAME:CET
DTSTART:20261025T010000
END:STANDARD
BEGIN:DAYLIGHT
TZOFFSETFROM:+0100
TZOFFSETTO:+0200
TZNAME:CEST
DTSTART:20270328T010000
END:DAYLIGHT
BEGIN:STANDARD
TZOFFSETFROM:+0200
TZOFFSETTO:+0100
TZNAME:CET
DTSTART:20271031T010000
END:STANDARD
END:VTIMEZONE
BEGIN:VEVENT
DTSTART;TZID=Europe/Berlin:20260606T100000
DTEND;TZID=Europe/Berlin:20260606T110000
DTSTAMP:20260424T222144
CREATED:20250706T111030Z
LAST-MODIFIED:20250706T111030Z
UID:13696-1780740000-1780743600@fernmeldemuseum-dresden.de
SUMMARY:Führung 6.6.26 ab 10 Uhr
DESCRIPTION:Öffnungstag
URL:https://fernmeldemuseum-dresden.de/event/fuehrung-6-6-26-ab-10-uhr/
CATEGORIES:Öffnungstage
ORGANIZER;CN="IGHFt e. V.":MAILTO:verein@ighft.de
END:VEVENT
BEGIN:VEVENT
DTSTART;TZID=Europe/Berlin:20260606T110000
DTEND;TZID=Europe/Berlin:20260606T120000
DTSTAMP:20260424T222144
CREATED:20250706T111030Z
LAST-MODIFIED:20250706T111030Z
UID:13697-1780743600-1780747200@fernmeldemuseum-dresden.de
SUMMARY:Führung 6.6.26 ab 11 Uhr
DESCRIPTION:Öffnungstag
URL:https://fernmeldemuseum-dresden.de/event/fuehrung-6-6-26-ab-11-uhr/
CATEGORIES:Öffnungstage
ORGANIZER;CN="IGHFt e. V.":MAILTO:verein@ighft.de
END:VEVENT
BEGIN:VEVENT
DTSTART;TZID=Europe/Berlin:20260606T120000
DTEND;TZID=Europe/Berlin:20260606T130000
DTSTAMP:20260424T222144
CREATED:20250706T111030Z
LAST-MODIFIED:20250706T111030Z
UID:13698-1780747200-1780750800@fernmeldemuseum-dresden.de
SUMMARY:Führung 6.6.26 ab 12 Uhr
DESCRIPTION:Öffnungstag
URL:https://fernmeldemuseum-dresden.de/event/fuehrung-6-6-26-ab-12-uhr/
CATEGORIES:Öffnungstage
ORGANIZER;CN="IGHFt e. V.":MAILTO:verein@ighft.de
END:VEVENT
BEGIN:VEVENT
DTSTART;TZID=Europe/Berlin:20260606T130000
DTEND;TZID=Europe/Berlin:20260606T140000
DTSTAMP:20260424T222144
CREATED:20250706T111030Z
LAST-MODIFIED:20250706T111030Z
UID:13699-1780750800-1780754400@fernmeldemuseum-dresden.de
SUMMARY:Führung 6.6.26 ab 13 Uhr
DESCRIPTION:Öffnungstag
URL:https://fernmeldemuseum-dresden.de/event/fuehrung-6-6-26-ab-13-uhr/
CATEGORIES:Öffnungstage
ORGANIZER;CN="IGHFt e. V.":MAILTO:verein@ighft.de
END:VEVENT
BEGIN:VEVENT
DTSTART;TZID=Europe/Berlin:20260606T140000
DTEND;TZID=Europe/Berlin:20260606T150000
DTSTAMP:20260424T222144
CREATED:20250706T111030Z
LAST-MODIFIED:20250706T111030Z
UID:13700-1780754400-1780758000@fernmeldemuseum-dresden.de
SUMMARY:Führung 6.6.26 ab 14 Uhr
DESCRIPTION:Öffnungstag
URL:https://fernmeldemuseum-dresden.de/event/fuehrung-6-6-26-ab-14-uhr/
CATEGORIES:Öffnungstage
ORGANIZER;CN="IGHFt e. V.":MAILTO:verein@ighft.de
END:VEVENT
END:VCALENDAR