BEGIN:VCALENDAR
VERSION:2.0
PRODID:-//Fernmeldemuseum Dresden - ECPv6.15.20//NONSGML v1.0//EN
CALSCALE:GREGORIAN
METHOD:PUBLISH
X-ORIGINAL-URL:https://fernmeldemuseum-dresden.de
X-WR-CALDESC:Veranstaltungen für Fernmeldemuseum Dresden
REFRESH-INTERVAL;VALUE=DURATION:PT1H
X-Robots-Tag:noindex
X-PUBLISHED-TTL:PT1H
BEGIN:VTIMEZONE
TZID:Europe/Berlin
BEGIN:DAYLIGHT
TZOFFSETFROM:+0100
TZOFFSETTO:+0200
TZNAME:CEST
DTSTART:20250330T010000
END:DAYLIGHT
BEGIN:STANDARD
TZOFFSETFROM:+0200
TZOFFSETTO:+0100
TZNAME:CET
DTSTART:20251026T010000
END:STANDARD
BEGIN:DAYLIGHT
TZOFFSETFROM:+0100
TZOFFSETTO:+0200
TZNAME:CEST
DTSTART:20260329T010000
END:DAYLIGHT
BEGIN:STANDARD
TZOFFSETFROM:+0200
TZOFFSETTO:+0100
TZNAME:CET
DTSTART:20261025T010000
END:STANDARD
BEGIN:DAYLIGHT
TZOFFSETFROM:+0100
TZOFFSETTO:+0200
TZNAME:CEST
DTSTART:20270328T010000
END:DAYLIGHT
BEGIN:STANDARD
TZOFFSETFROM:+0200
TZOFFSETTO:+0100
TZNAME:CET
DTSTART:20271031T010000
END:STANDARD
END:VTIMEZONE
BEGIN:VEVENT
DTSTART;TZID=Europe/Berlin:20261003T100000
DTEND;TZID=Europe/Berlin:20261003T110000
DTSTAMP:20260425T013455
CREATED:20251221T120435Z
LAST-MODIFIED:20251221T120435Z
UID:14027-1791021600-1791025200@fernmeldemuseum-dresden.de
SUMMARY:Führung 3.10.26 ab 10 Uhr
DESCRIPTION:Öffnungstag
URL:https://fernmeldemuseum-dresden.de/event/fuehrung-3-10-26-ab-10-uhr/
CATEGORIES:Öffnungstage
ORGANIZER;CN="IGHFt e. V.":MAILTO:verein@ighft.de
END:VEVENT
BEGIN:VEVENT
DTSTART;TZID=Europe/Berlin:20261003T110000
DTEND;TZID=Europe/Berlin:20261003T120000
DTSTAMP:20260425T013455
CREATED:20251221T120435Z
LAST-MODIFIED:20251221T120435Z
UID:14028-1791025200-1791028800@fernmeldemuseum-dresden.de
SUMMARY:Führung 3.10.26 ab 11 Uhr
DESCRIPTION:Öffnungstag
URL:https://fernmeldemuseum-dresden.de/event/fuehrung-3-10-26-ab-11-uhr/
CATEGORIES:Öffnungstage
ORGANIZER;CN="IGHFt e. V.":MAILTO:verein@ighft.de
END:VEVENT
BEGIN:VEVENT
DTSTART;TZID=Europe/Berlin:20261003T120000
DTEND;TZID=Europe/Berlin:20261003T130000
DTSTAMP:20260425T013455
CREATED:20251221T120435Z
LAST-MODIFIED:20251221T120435Z
UID:14029-1791028800-1791032400@fernmeldemuseum-dresden.de
SUMMARY:Führung 3.10.26 ab 12 Uhr
DESCRIPTION:Öffnungstag
URL:https://fernmeldemuseum-dresden.de/event/fuehrung-3-10-26-ab-12-uhr/
CATEGORIES:Öffnungstage
ORGANIZER;CN="IGHFt e. V.":MAILTO:verein@ighft.de
END:VEVENT
BEGIN:VEVENT
DTSTART;TZID=Europe/Berlin:20261003T130000
DTEND;TZID=Europe/Berlin:20261003T140000
DTSTAMP:20260425T013455
CREATED:20251221T120436Z
LAST-MODIFIED:20251221T120436Z
UID:14030-1791032400-1791036000@fernmeldemuseum-dresden.de
SUMMARY:Führung 3.10.26 ab 13 Uhr
DESCRIPTION:Öffnungstag
URL:https://fernmeldemuseum-dresden.de/event/fuehrung-3-10-26-ab-13-uhr/
CATEGORIES:Öffnungstage
ORGANIZER;CN="IGHFt e. V.":MAILTO:verein@ighft.de
END:VEVENT
BEGIN:VEVENT
DTSTART;TZID=Europe/Berlin:20261003T140000
DTEND;TZID=Europe/Berlin:20261003T150000
DTSTAMP:20260425T013455
CREATED:20251221T120436Z
LAST-MODIFIED:20251221T120436Z
UID:14031-1791036000-1791039600@fernmeldemuseum-dresden.de
SUMMARY:Führung 3.10.26 ab 14 Uhr
DESCRIPTION:Öffnungstag
URL:https://fernmeldemuseum-dresden.de/event/fuehrung-3-10-26-ab-14-uhr/
CATEGORIES:Öffnungstage
ORGANIZER;CN="IGHFt e. V.":MAILTO:verein@ighft.de
END:VEVENT
BEGIN:VEVENT
DTSTART;TZID=Europe/Berlin:20261107T100000
DTEND;TZID=Europe/Berlin:20261107T110000
DTSTAMP:20260425T013455
CREATED:20251221T120450Z
LAST-MODIFIED:20251221T120450Z
UID:14032-1794045600-1794049200@fernmeldemuseum-dresden.de
SUMMARY:Führung 7.11.26 ab 10 Uhr
DESCRIPTION:Öffnungstag
URL:https://fernmeldemuseum-dresden.de/event/fuehrung-7-11-26-ab-10-uhr/
CATEGORIES:Öffnungstage
ORGANIZER;CN="IGHFt e. V.":MAILTO:verein@ighft.de
END:VEVENT
BEGIN:VEVENT
DTSTART;TZID=Europe/Berlin:20261107T110000
DTEND;TZID=Europe/Berlin:20261107T120000
DTSTAMP:20260425T013455
CREATED:20251221T120450Z
LAST-MODIFIED:20251221T120450Z
UID:14033-1794049200-1794052800@fernmeldemuseum-dresden.de
SUMMARY:Führung 7.11.26 ab 11 Uhr
DESCRIPTION:Öffnungstag
URL:https://fernmeldemuseum-dresden.de/event/fuehrung-7-11-26-ab-11-uhr/
CATEGORIES:Öffnungstage
ORGANIZER;CN="IGHFt e. V.":MAILTO:verein@ighft.de
END:VEVENT
BEGIN:VEVENT
DTSTART;TZID=Europe/Berlin:20261107T120000
DTEND;TZID=Europe/Berlin:20261107T130000
DTSTAMP:20260425T013455
CREATED:20251221T120450Z
LAST-MODIFIED:20251221T120450Z
UID:14034-1794052800-1794056400@fernmeldemuseum-dresden.de
SUMMARY:Führung 7.11.26 ab 12 Uhr
DESCRIPTION:Öffnungstag
URL:https://fernmeldemuseum-dresden.de/event/fuehrung-7-11-26-ab-12-uhr/
CATEGORIES:Öffnungstage
ORGANIZER;CN="IGHFt e. V.":MAILTO:verein@ighft.de
END:VEVENT
BEGIN:VEVENT
DTSTART;TZID=Europe/Berlin:20261107T130000
DTEND;TZID=Europe/Berlin:20261107T140000
DTSTAMP:20260425T013455
CREATED:20251221T120451Z
LAST-MODIFIED:20251221T120451Z
UID:14035-1794056400-1794060000@fernmeldemuseum-dresden.de
SUMMARY:Führung 7.11.26 ab 13 Uhr
DESCRIPTION:Öffnungstag
URL:https://fernmeldemuseum-dresden.de/event/fuehrung-7-11-26-ab-13-uhr/
CATEGORIES:Öffnungstage
ORGANIZER;CN="IGHFt e. V.":MAILTO:verein@ighft.de
END:VEVENT
BEGIN:VEVENT
DTSTART;TZID=Europe/Berlin:20261107T140000
DTEND;TZID=Europe/Berlin:20261107T150000
DTSTAMP:20260425T013455
CREATED:20251221T120451Z
LAST-MODIFIED:20251221T120451Z
UID:14036-1794060000-1794063600@fernmeldemuseum-dresden.de
SUMMARY:Führung 7.11.26 ab 14 Uhr
DESCRIPTION:Öffnungstag
URL:https://fernmeldemuseum-dresden.de/event/fuehrung-7-11-26-ab-14-uhr/
CATEGORIES:Öffnungstage
ORGANIZER;CN="IGHFt e. V.":MAILTO:verein@ighft.de
END:VEVENT
BEGIN:VEVENT
DTSTART;TZID=Europe/Berlin:20261205T100000
DTEND;TZID=Europe/Berlin:20261205T110000
DTSTAMP:20260425T013455
CREATED:20251221T120506Z
LAST-MODIFIED:20251221T120506Z
UID:14037-1796464800-1796468400@fernmeldemuseum-dresden.de
SUMMARY:Führung 5.12.26 ab 10 Uhr
DESCRIPTION:Öffnungstag
URL:https://fernmeldemuseum-dresden.de/event/fuehrung-5-12-26-ab-10-uhr/
CATEGORIES:Öffnungstage
ORGANIZER;CN="IGHFt e. V.":MAILTO:verein@ighft.de
END:VEVENT
BEGIN:VEVENT
DTSTART;TZID=Europe/Berlin:20261205T110000
DTEND;TZID=Europe/Berlin:20261205T120000
DTSTAMP:20260425T013455
CREATED:20251221T120506Z
LAST-MODIFIED:20251221T120506Z
UID:14038-1796468400-1796472000@fernmeldemuseum-dresden.de
SUMMARY:Führung 5.12.26 ab 11 Uhr
DESCRIPTION:Öffnungstag
URL:https://fernmeldemuseum-dresden.de/event/fuehrung-5-12-26-ab-11-uhr/
CATEGORIES:Öffnungstage
ORGANIZER;CN="IGHFt e. V.":MAILTO:verein@ighft.de
END:VEVENT
BEGIN:VEVENT
DTSTART;TZID=Europe/Berlin:20261205T120000
DTEND;TZID=Europe/Berlin:20261205T130000
DTSTAMP:20260425T013455
CREATED:20251221T120506Z
LAST-MODIFIED:20251221T120506Z
UID:14039-1796472000-1796475600@fernmeldemuseum-dresden.de
SUMMARY:Führung 5.12.26 ab 12 Uhr
DESCRIPTION:Öffnungstag
URL:https://fernmeldemuseum-dresden.de/event/fuehrung-5-12-26-ab-12-uhr/
CATEGORIES:Öffnungstage
ORGANIZER;CN="IGHFt e. V.":MAILTO:verein@ighft.de
END:VEVENT
BEGIN:VEVENT
DTSTART;TZID=Europe/Berlin:20261205T130000
DTEND;TZID=Europe/Berlin:20261205T140000
DTSTAMP:20260425T013455
CREATED:20251221T120507Z
LAST-MODIFIED:20251221T120507Z
UID:14040-1796475600-1796479200@fernmeldemuseum-dresden.de
SUMMARY:Führung 5.12.26 ab 13 Uhr
DESCRIPTION:Öffnungstag
URL:https://fernmeldemuseum-dresden.de/event/fuehrung-5-12-26-ab-13-uhr/
CATEGORIES:Öffnungstage
ORGANIZER;CN="IGHFt e. V.":MAILTO:verein@ighft.de
END:VEVENT
BEGIN:VEVENT
DTSTART;TZID=Europe/Berlin:20261205T140000
DTEND;TZID=Europe/Berlin:20261205T150000
DTSTAMP:20260425T013455
CREATED:20251221T120507Z
LAST-MODIFIED:20251221T120507Z
UID:14041-1796479200-1796482800@fernmeldemuseum-dresden.de
SUMMARY:Führung 5.12.26 ab 14 Uhr
DESCRIPTION:Öffnungstag
URL:https://fernmeldemuseum-dresden.de/event/fuehrung-5-12-26-ab-14-uhr/
CATEGORIES:Öffnungstage
ORGANIZER;CN="IGHFt e. V.":MAILTO:verein@ighft.de
END:VEVENT
END:VCALENDAR