BEGIN:VCALENDAR
VERSION:2.0
PRODID:-//Fernmeldemuseum Dresden - ECPv6.15.20//NONSGML v1.0//EN
CALSCALE:GREGORIAN
METHOD:PUBLISH
X-WR-CALNAME:Fernmeldemuseum Dresden
X-ORIGINAL-URL:https://fernmeldemuseum-dresden.de
X-WR-CALDESC:Veranstaltungen für Fernmeldemuseum Dresden
REFRESH-INTERVAL;VALUE=DURATION:PT1H
X-Robots-Tag:noindex
X-PUBLISHED-TTL:PT1H
BEGIN:VTIMEZONE
TZID:Europe/Berlin
BEGIN:DAYLIGHT
TZOFFSETFROM:+0100
TZOFFSETTO:+0200
TZNAME:CEST
DTSTART:20250330T010000
END:DAYLIGHT
BEGIN:STANDARD
TZOFFSETFROM:+0200
TZOFFSETTO:+0100
TZNAME:CET
DTSTART:20251026T010000
END:STANDARD
BEGIN:DAYLIGHT
TZOFFSETFROM:+0100
TZOFFSETTO:+0200
TZNAME:CEST
DTSTART:20260329T010000
END:DAYLIGHT
BEGIN:STANDARD
TZOFFSETFROM:+0200
TZOFFSETTO:+0100
TZNAME:CET
DTSTART:20261025T010000
END:STANDARD
BEGIN:DAYLIGHT
TZOFFSETFROM:+0100
TZOFFSETTO:+0200
TZNAME:CEST
DTSTART:20270328T010000
END:DAYLIGHT
BEGIN:STANDARD
TZOFFSETFROM:+0200
TZOFFSETTO:+0100
TZNAME:CET
DTSTART:20271031T010000
END:STANDARD
END:VTIMEZONE
BEGIN:VEVENT
DTSTART;TZID=Europe/Berlin:20260502T100000
DTEND;TZID=Europe/Berlin:20260502T110000
DTSTAMP:20260419T224755
CREATED:20250706T110922Z
LAST-MODIFIED:20250706T110922Z
UID:13691-1777716000-1777719600@fernmeldemuseum-dresden.de
SUMMARY:Führung 2.5.26 ab 10 Uhr
DESCRIPTION:Öffnungstag
URL:https://fernmeldemuseum-dresden.de/event/fuehrung-2-5-26-ab-10-uhr/
CATEGORIES:Öffnungstage
ORGANIZER;CN="IGHFt e. V.":MAILTO:verein@ighft.de
END:VEVENT
BEGIN:VEVENT
DTSTART;TZID=Europe/Berlin:20260502T110000
DTEND;TZID=Europe/Berlin:20260502T120000
DTSTAMP:20260419T224755
CREATED:20250706T110922Z
LAST-MODIFIED:20250706T110922Z
UID:13692-1777719600-1777723200@fernmeldemuseum-dresden.de
SUMMARY:Führung 2.5.26 ab 11 Uhr
DESCRIPTION:Öffnungstag
URL:https://fernmeldemuseum-dresden.de/event/fuehrung-2-5-26-ab-11-uhr/
CATEGORIES:Öffnungstage
ORGANIZER;CN="IGHFt e. V.":MAILTO:verein@ighft.de
END:VEVENT
BEGIN:VEVENT
DTSTART;TZID=Europe/Berlin:20260502T120000
DTEND;TZID=Europe/Berlin:20260502T130000
DTSTAMP:20260419T224755
CREATED:20250706T110923Z
LAST-MODIFIED:20250706T110923Z
UID:13693-1777723200-1777726800@fernmeldemuseum-dresden.de
SUMMARY:Führung 2.5.26 ab 12 Uhr
DESCRIPTION:Öffnungstag
URL:https://fernmeldemuseum-dresden.de/event/fuehrung-2-5-26-ab-12-uhr/
CATEGORIES:Öffnungstage
ORGANIZER;CN="IGHFt e. V.":MAILTO:verein@ighft.de
END:VEVENT
BEGIN:VEVENT
DTSTART;TZID=Europe/Berlin:20260502T130000
DTEND;TZID=Europe/Berlin:20260502T140000
DTSTAMP:20260419T224755
CREATED:20250706T110923Z
LAST-MODIFIED:20250706T110923Z
UID:13694-1777726800-1777730400@fernmeldemuseum-dresden.de
SUMMARY:Führung 2.5.26 ab 13 Uhr
DESCRIPTION:Öffnungstag
URL:https://fernmeldemuseum-dresden.de/event/fuehrung-2-5-26-ab-13-uhr/
CATEGORIES:Öffnungstage
ORGANIZER;CN="IGHFt e. V.":MAILTO:verein@ighft.de
END:VEVENT
BEGIN:VEVENT
DTSTART;TZID=Europe/Berlin:20260502T140000
DTEND;TZID=Europe/Berlin:20260502T150000
DTSTAMP:20260419T224755
CREATED:20250706T110923Z
LAST-MODIFIED:20250706T110923Z
UID:13695-1777730400-1777734000@fernmeldemuseum-dresden.de
SUMMARY:Führung 2.5.26 ab 14 Uhr
DESCRIPTION:Öffnungstag
URL:https://fernmeldemuseum-dresden.de/event/fuehrung-2-5-26-ab-14-uhr/
CATEGORIES:Öffnungstage
ORGANIZER;CN="IGHFt e. V.":MAILTO:verein@ighft.de
END:VEVENT
BEGIN:VEVENT
DTSTART;TZID=Europe/Berlin:20260606T100000
DTEND;TZID=Europe/Berlin:20260606T110000
DTSTAMP:20260419T224755
CREATED:20250706T111030Z
LAST-MODIFIED:20250706T111030Z
UID:13696-1780740000-1780743600@fernmeldemuseum-dresden.de
SUMMARY:Führung 6.6.26 ab 10 Uhr
DESCRIPTION:Öffnungstag
URL:https://fernmeldemuseum-dresden.de/event/fuehrung-6-6-26-ab-10-uhr/
CATEGORIES:Öffnungstage
ORGANIZER;CN="IGHFt e. V.":MAILTO:verein@ighft.de
END:VEVENT
BEGIN:VEVENT
DTSTART;TZID=Europe/Berlin:20260606T110000
DTEND;TZID=Europe/Berlin:20260606T120000
DTSTAMP:20260419T224755
CREATED:20250706T111030Z
LAST-MODIFIED:20250706T111030Z
UID:13697-1780743600-1780747200@fernmeldemuseum-dresden.de
SUMMARY:Führung 6.6.26 ab 11 Uhr
DESCRIPTION:Öffnungstag
URL:https://fernmeldemuseum-dresden.de/event/fuehrung-6-6-26-ab-11-uhr/
CATEGORIES:Öffnungstage
ORGANIZER;CN="IGHFt e. V.":MAILTO:verein@ighft.de
END:VEVENT
BEGIN:VEVENT
DTSTART;TZID=Europe/Berlin:20260606T120000
DTEND;TZID=Europe/Berlin:20260606T130000
DTSTAMP:20260419T224755
CREATED:20250706T111030Z
LAST-MODIFIED:20250706T111030Z
UID:13698-1780747200-1780750800@fernmeldemuseum-dresden.de
SUMMARY:Führung 6.6.26 ab 12 Uhr
DESCRIPTION:Öffnungstag
URL:https://fernmeldemuseum-dresden.de/event/fuehrung-6-6-26-ab-12-uhr/
CATEGORIES:Öffnungstage
ORGANIZER;CN="IGHFt e. V.":MAILTO:verein@ighft.de
END:VEVENT
BEGIN:VEVENT
DTSTART;TZID=Europe/Berlin:20260606T130000
DTEND;TZID=Europe/Berlin:20260606T140000
DTSTAMP:20260419T224755
CREATED:20250706T111030Z
LAST-MODIFIED:20250706T111030Z
UID:13699-1780750800-1780754400@fernmeldemuseum-dresden.de
SUMMARY:Führung 6.6.26 ab 13 Uhr
DESCRIPTION:Öffnungstag
URL:https://fernmeldemuseum-dresden.de/event/fuehrung-6-6-26-ab-13-uhr/
CATEGORIES:Öffnungstage
ORGANIZER;CN="IGHFt e. V.":MAILTO:verein@ighft.de
END:VEVENT
BEGIN:VEVENT
DTSTART;TZID=Europe/Berlin:20260606T140000
DTEND;TZID=Europe/Berlin:20260606T150000
DTSTAMP:20260419T224755
CREATED:20250706T111030Z
LAST-MODIFIED:20250706T111030Z
UID:13700-1780754400-1780758000@fernmeldemuseum-dresden.de
SUMMARY:Führung 6.6.26 ab 14 Uhr
DESCRIPTION:Öffnungstag
URL:https://fernmeldemuseum-dresden.de/event/fuehrung-6-6-26-ab-14-uhr/
CATEGORIES:Öffnungstage
ORGANIZER;CN="IGHFt e. V.":MAILTO:verein@ighft.de
END:VEVENT
BEGIN:VEVENT
DTSTART;TZID=Europe/Berlin:20260704T100000
DTEND;TZID=Europe/Berlin:20260704T110000
DTSTAMP:20260419T224755
CREATED:20251221T120336Z
LAST-MODIFIED:20251221T120336Z
UID:14012-1783159200-1783162800@fernmeldemuseum-dresden.de
SUMMARY:Führung 4.7.26 ab 10 Uhr
DESCRIPTION:Öffnungstag
URL:https://fernmeldemuseum-dresden.de/event/fuehrung-4-7-26-ab-10-uhr/
CATEGORIES:Öffnungstage
ORGANIZER;CN="IGHFt e. V.":MAILTO:verein@ighft.de
END:VEVENT
BEGIN:VEVENT
DTSTART;TZID=Europe/Berlin:20260704T110000
DTEND;TZID=Europe/Berlin:20260704T120000
DTSTAMP:20260419T224755
CREATED:20251221T120336Z
LAST-MODIFIED:20251221T120336Z
UID:14013-1783162800-1783166400@fernmeldemuseum-dresden.de
SUMMARY:Führung 4.7.26 ab 11 Uhr
DESCRIPTION:Öffnungstag
URL:https://fernmeldemuseum-dresden.de/event/fuehrung-4-7-26-ab-11-uhr/
CATEGORIES:Öffnungstage
ORGANIZER;CN="IGHFt e. V.":MAILTO:verein@ighft.de
END:VEVENT
BEGIN:VEVENT
DTSTART;TZID=Europe/Berlin:20260704T120000
DTEND;TZID=Europe/Berlin:20260704T130000
DTSTAMP:20260419T224755
CREATED:20251221T120336Z
LAST-MODIFIED:20251221T120336Z
UID:14014-1783166400-1783170000@fernmeldemuseum-dresden.de
SUMMARY:Führung 4.7.26 ab 12 Uhr
DESCRIPTION:Öffnungstag
URL:https://fernmeldemuseum-dresden.de/event/fuehrung-4-7-26-ab-12-uhr/
CATEGORIES:Öffnungstage
ORGANIZER;CN="IGHFt e. V.":MAILTO:verein@ighft.de
END:VEVENT
BEGIN:VEVENT
DTSTART;TZID=Europe/Berlin:20260704T130000
DTEND;TZID=Europe/Berlin:20260704T140000
DTSTAMP:20260419T224755
CREATED:20251221T120337Z
LAST-MODIFIED:20251221T120337Z
UID:14015-1783170000-1783173600@fernmeldemuseum-dresden.de
SUMMARY:Führung 4.7.26 ab 13 Uhr
DESCRIPTION:Öffnungstag
URL:https://fernmeldemuseum-dresden.de/event/fuehrung-4-7-26-ab-13-uhr/
CATEGORIES:Öffnungstage
ORGANIZER;CN="IGHFt e. V.":MAILTO:verein@ighft.de
END:VEVENT
BEGIN:VEVENT
DTSTART;TZID=Europe/Berlin:20260704T140000
DTEND;TZID=Europe/Berlin:20260704T150000
DTSTAMP:20260419T224755
CREATED:20251221T120337Z
LAST-MODIFIED:20251221T120337Z
UID:14016-1783173600-1783177200@fernmeldemuseum-dresden.de
SUMMARY:Führung 4.7.26 ab 14 Uhr
DESCRIPTION:Öffnungstag
URL:https://fernmeldemuseum-dresden.de/event/fuehrung-4-7-26-ab-14-uhr/
CATEGORIES:Öffnungstage
ORGANIZER;CN="IGHFt e. V.":MAILTO:verein@ighft.de
END:VEVENT
BEGIN:VEVENT
DTSTART;TZID=Europe/Berlin:20260801T100000
DTEND;TZID=Europe/Berlin:20260801T110000
DTSTAMP:20260419T224755
CREATED:20251221T120338Z
LAST-MODIFIED:20251221T120338Z
UID:14017-1785578400-1785582000@fernmeldemuseum-dresden.de
SUMMARY:Führung 1.8.26 ab 10 Uhr
DESCRIPTION:Öffnungstag
URL:https://fernmeldemuseum-dresden.de/event/fuehrung-1-8-26-ab-10-uhr/
CATEGORIES:Öffnungstage
ORGANIZER;CN="IGHFt e. V.":MAILTO:verein@ighft.de
END:VEVENT
BEGIN:VEVENT
DTSTART;TZID=Europe/Berlin:20260801T110000
DTEND;TZID=Europe/Berlin:20260801T120000
DTSTAMP:20260419T224755
CREATED:20251221T120338Z
LAST-MODIFIED:20251221T120338Z
UID:14018-1785582000-1785585600@fernmeldemuseum-dresden.de
SUMMARY:Führung 1.8.26 ab 11 Uhr
DESCRIPTION:Öffnungstag
URL:https://fernmeldemuseum-dresden.de/event/fuehrung-1-8-26-ab-11-uhr/
CATEGORIES:Öffnungstage
ORGANIZER;CN="IGHFt e. V.":MAILTO:verein@ighft.de
END:VEVENT
BEGIN:VEVENT
DTSTART;TZID=Europe/Berlin:20260801T120000
DTEND;TZID=Europe/Berlin:20260801T130000
DTSTAMP:20260419T224755
CREATED:20251221T120338Z
LAST-MODIFIED:20251221T120338Z
UID:14019-1785585600-1785589200@fernmeldemuseum-dresden.de
SUMMARY:Führung 1.8.26 ab 12 Uhr
DESCRIPTION:Öffnungstag
URL:https://fernmeldemuseum-dresden.de/event/fuehrung-1-8-26-ab-12-uhr/
CATEGORIES:Öffnungstage
ORGANIZER;CN="IGHFt e. V.":MAILTO:verein@ighft.de
END:VEVENT
BEGIN:VEVENT
DTSTART;TZID=Europe/Berlin:20260801T130000
DTEND;TZID=Europe/Berlin:20260801T140000
DTSTAMP:20260419T224755
CREATED:20251221T120339Z
LAST-MODIFIED:20251221T120339Z
UID:14020-1785589200-1785592800@fernmeldemuseum-dresden.de
SUMMARY:Führung 1.8.26 ab 13 Uhr
DESCRIPTION:Öffnungstag
URL:https://fernmeldemuseum-dresden.de/event/fuehrung-1-8-26-ab-13-uhr/
CATEGORIES:Öffnungstage
ORGANIZER;CN="IGHFt e. V.":MAILTO:verein@ighft.de
END:VEVENT
BEGIN:VEVENT
DTSTART;TZID=Europe/Berlin:20260801T140000
DTEND;TZID=Europe/Berlin:20260801T150000
DTSTAMP:20260419T224755
CREATED:20251221T120339Z
LAST-MODIFIED:20251221T120339Z
UID:14021-1785592800-1785596400@fernmeldemuseum-dresden.de
SUMMARY:Führung 1.8.26 ab 14 Uhr
DESCRIPTION:Öffnungstag
URL:https://fernmeldemuseum-dresden.de/event/fuehrung-1-8-26-ab-14-uhr/
CATEGORIES:Öffnungstage
ORGANIZER;CN="IGHFt e. V.":MAILTO:verein@ighft.de
END:VEVENT
BEGIN:VEVENT
DTSTART;TZID=Europe/Berlin:20260905T100000
DTEND;TZID=Europe/Berlin:20260905T110000
DTSTAMP:20260419T224755
CREATED:20251221T120353Z
LAST-MODIFIED:20251221T120353Z
UID:14022-1788602400-1788606000@fernmeldemuseum-dresden.de
SUMMARY:Führung 5.9.26 ab 10 Uhr
DESCRIPTION:Öffnungstag
URL:https://fernmeldemuseum-dresden.de/event/fuehrung-5-9-26-ab-10-uhr/
CATEGORIES:Öffnungstage
ORGANIZER;CN="IGHFt e. V.":MAILTO:verein@ighft.de
END:VEVENT
BEGIN:VEVENT
DTSTART;TZID=Europe/Berlin:20260905T110000
DTEND;TZID=Europe/Berlin:20260905T120000
DTSTAMP:20260419T224755
CREATED:20251221T120353Z
LAST-MODIFIED:20251221T120353Z
UID:14023-1788606000-1788609600@fernmeldemuseum-dresden.de
SUMMARY:Führung 5.9.26 ab 11 Uhr
DESCRIPTION:Öffnungstag
URL:https://fernmeldemuseum-dresden.de/event/fuehrung-5-9-26-ab-11-uhr/
CATEGORIES:Öffnungstage
ORGANIZER;CN="IGHFt e. V.":MAILTO:verein@ighft.de
END:VEVENT
BEGIN:VEVENT
DTSTART;TZID=Europe/Berlin:20260905T120000
DTEND;TZID=Europe/Berlin:20260905T130000
DTSTAMP:20260419T224755
CREATED:20251221T120354Z
LAST-MODIFIED:20251221T120354Z
UID:14024-1788609600-1788613200@fernmeldemuseum-dresden.de
SUMMARY:Führung 5.9.26 ab 12 Uhr
DESCRIPTION:Öffnungstag
URL:https://fernmeldemuseum-dresden.de/event/fuehrung-5-9-26-ab-12-uhr/
CATEGORIES:Öffnungstage
ORGANIZER;CN="IGHFt e. V.":MAILTO:verein@ighft.de
END:VEVENT
BEGIN:VEVENT
DTSTART;TZID=Europe/Berlin:20260905T130000
DTEND;TZID=Europe/Berlin:20260905T140000
DTSTAMP:20260419T224755
CREATED:20251221T120354Z
LAST-MODIFIED:20251221T120354Z
UID:14025-1788613200-1788616800@fernmeldemuseum-dresden.de
SUMMARY:Führung 5.9.26 ab 13 Uhr
DESCRIPTION:Öffnungstag
URL:https://fernmeldemuseum-dresden.de/event/fuehrung-5-9-26-ab-13-uhr/
CATEGORIES:Öffnungstage
ORGANIZER;CN="IGHFt e. V.":MAILTO:verein@ighft.de
END:VEVENT
BEGIN:VEVENT
DTSTART;TZID=Europe/Berlin:20260905T140000
DTEND;TZID=Europe/Berlin:20260905T150000
DTSTAMP:20260419T224755
CREATED:20251221T120354Z
LAST-MODIFIED:20251221T120354Z
UID:14026-1788616800-1788620400@fernmeldemuseum-dresden.de
SUMMARY:Führung 5.9.26 ab 14 Uhr
DESCRIPTION:Öffnungstag
URL:https://fernmeldemuseum-dresden.de/event/fuehrung-5-9-26-ab-14-uhr/
CATEGORIES:Öffnungstage
ORGANIZER;CN="IGHFt e. V.":MAILTO:verein@ighft.de
END:VEVENT
BEGIN:VEVENT
DTSTART;TZID=Europe/Berlin:20261003T100000
DTEND;TZID=Europe/Berlin:20261003T110000
DTSTAMP:20260419T224755
CREATED:20251221T120435Z
LAST-MODIFIED:20251221T120435Z
UID:14027-1791021600-1791025200@fernmeldemuseum-dresden.de
SUMMARY:Führung 3.10.26 ab 10 Uhr
DESCRIPTION:Öffnungstag
URL:https://fernmeldemuseum-dresden.de/event/fuehrung-3-10-26-ab-10-uhr/
CATEGORIES:Öffnungstage
ORGANIZER;CN="IGHFt e. V.":MAILTO:verein@ighft.de
END:VEVENT
BEGIN:VEVENT
DTSTART;TZID=Europe/Berlin:20261003T110000
DTEND;TZID=Europe/Berlin:20261003T120000
DTSTAMP:20260419T224755
CREATED:20251221T120435Z
LAST-MODIFIED:20251221T120435Z
UID:14028-1791025200-1791028800@fernmeldemuseum-dresden.de
SUMMARY:Führung 3.10.26 ab 11 Uhr
DESCRIPTION:Öffnungstag
URL:https://fernmeldemuseum-dresden.de/event/fuehrung-3-10-26-ab-11-uhr/
CATEGORIES:Öffnungstage
ORGANIZER;CN="IGHFt e. V.":MAILTO:verein@ighft.de
END:VEVENT
BEGIN:VEVENT
DTSTART;TZID=Europe/Berlin:20261003T120000
DTEND;TZID=Europe/Berlin:20261003T130000
DTSTAMP:20260419T224755
CREATED:20251221T120435Z
LAST-MODIFIED:20251221T120435Z
UID:14029-1791028800-1791032400@fernmeldemuseum-dresden.de
SUMMARY:Führung 3.10.26 ab 12 Uhr
DESCRIPTION:Öffnungstag
URL:https://fernmeldemuseum-dresden.de/event/fuehrung-3-10-26-ab-12-uhr/
CATEGORIES:Öffnungstage
ORGANIZER;CN="IGHFt e. V.":MAILTO:verein@ighft.de
END:VEVENT
BEGIN:VEVENT
DTSTART;TZID=Europe/Berlin:20261003T130000
DTEND;TZID=Europe/Berlin:20261003T140000
DTSTAMP:20260419T224755
CREATED:20251221T120436Z
LAST-MODIFIED:20251221T120436Z
UID:14030-1791032400-1791036000@fernmeldemuseum-dresden.de
SUMMARY:Führung 3.10.26 ab 13 Uhr
DESCRIPTION:Öffnungstag
URL:https://fernmeldemuseum-dresden.de/event/fuehrung-3-10-26-ab-13-uhr/
CATEGORIES:Öffnungstage
ORGANIZER;CN="IGHFt e. V.":MAILTO:verein@ighft.de
END:VEVENT
BEGIN:VEVENT
DTSTART;TZID=Europe/Berlin:20261003T140000
DTEND;TZID=Europe/Berlin:20261003T150000
DTSTAMP:20260419T224755
CREATED:20251221T120436Z
LAST-MODIFIED:20251221T120436Z
UID:14031-1791036000-1791039600@fernmeldemuseum-dresden.de
SUMMARY:Führung 3.10.26 ab 14 Uhr
DESCRIPTION:Öffnungstag
URL:https://fernmeldemuseum-dresden.de/event/fuehrung-3-10-26-ab-14-uhr/
CATEGORIES:Öffnungstage
ORGANIZER;CN="IGHFt e. V.":MAILTO:verein@ighft.de
END:VEVENT
END:VCALENDAR